BEGIN:VCALENDAR
VERSION:2.0
PRODID:-//Ville de Mont-Saint-Hilaire - ECPv6.15.20//NONSGML v1.0//EN
CALSCALE:GREGORIAN
METHOD:PUBLISH
X-ORIGINAL-URL:https://www.villemsh.ca
X-WR-CALDESC:Events for Ville de Mont-Saint-Hilaire
REFRESH-INTERVAL;VALUE=DURATION:PT1H
X-Robots-Tag:noindex
X-PUBLISHED-TTL:PT1H
BEGIN:VTIMEZONE
TZID:America/Toronto
BEGIN:DAYLIGHT
TZOFFSETFROM:-0500
TZOFFSETTO:-0400
TZNAME:EDT
DTSTART:20240310T070000
END:DAYLIGHT
BEGIN:STANDARD
TZOFFSETFROM:-0400
TZOFFSETTO:-0500
TZNAME:EST
DTSTART:20241103T060000
END:STANDARD
BEGIN:DAYLIGHT
TZOFFSETFROM:-0500
TZOFFSETTO:-0400
TZNAME:EDT
DTSTART:20250309T070000
END:DAYLIGHT
BEGIN:STANDARD
TZOFFSETFROM:-0400
TZOFFSETTO:-0500
TZNAME:EST
DTSTART:20251102T060000
END:STANDARD
BEGIN:DAYLIGHT
TZOFFSETFROM:-0500
TZOFFSETTO:-0400
TZNAME:EDT
DTSTART:20260308T070000
END:DAYLIGHT
BEGIN:STANDARD
TZOFFSETFROM:-0400
TZOFFSETTO:-0500
TZNAME:EST
DTSTART:20261101T060000
END:STANDARD
END:VTIMEZONE
BEGIN:VEVENT
DTSTART;TZID=America/Toronto:20250919T130000
DTEND;TZID=America/Toronto:20250919T160000
DTSTAMP:20260421T072323
CREATED:20250718T154054Z
LAST-MODIFIED:20250828T134158Z
UID:10000117-1758286800-1758297600@www.villemsh.ca
SUMMARY:Au parc de planches à roulettes
DESCRIPTION:Vendredi 19 septembre de 13 h à 16 h (journée pédagogique) \nDébutant\, intermédiaire ou expert en planche ou trottinette? Peu importe\, tu es le bienvenu! \nLe skatefest se veut un événement rassembleur qui te permettra d’avoir accès à des coachs passionnés de l’équipe Method Skateboard! \n\nAnimation et musique\nPrix de présence\nDémos\, défis et initiation pour les débutants\nPrêt de matériel sur place au besoin\n\nReprise le mercredi 29 octobre de 13h à 16h en cas de pluie
URL:https://www.villemsh.ca/loisir-et-culture/programmation-loisirs-sports-culture/culture-evenements-findstrfiltertribe_events_catvalueculturefindstrfiltertribe_events_catvaluesports20et20loisirsfindstrfiltertribe_events_catcompareinfindstrgrouptribe_events-findstrfiltertribe_event/au-parc-de-planche-a-roulette/
CATEGORIES:Sports et loisirs
ATTACH;FMTTYPE=image/jpeg:https://www.villemsh.ca/wp-content/uploads/2025/07/Evenement-Skatefest.jpg
END:VEVENT
BEGIN:VEVENT
DTSTART;VALUE=DATE:20250926
DTEND;VALUE=DATE:20250929
DTSTAMP:20260421T072323
CREATED:20250917T180510Z
LAST-MODIFIED:20250917T181217Z
UID:10000125-1758844800-1759103999@www.villemsh.ca
SUMMARY:Les journées de la culture
DESCRIPTION:26-27-28 septembre 2025\nInitiées et orchestrées par Culture pour tous\, les Journées de la culture sont trois jours d’activités gratuites et ouvertes à tous qui favorisent un plus grand accès de la population aux arts et à la culture. Tel que décrété par l’Assemblée nationale\, l’événement se déroule chaque année le dernier vendredi de septembre et les deux jours suivants\, partout au Québec. \n\nExplorer toutes les activités 👉 www.journeesdelaculture.qc.ca
URL:https://www.villemsh.ca/loisir-et-culture/programmation-loisirs-sports-culture/culture-evenements-findstrfiltertribe_events_catvalueculturefindstrfiltertribe_events_catvaluesports20et20loisirsfindstrfiltertribe_events_catcompareinfindstrgrouptribe_events-findstrfiltertribe_event/6227/
CATEGORIES:Culture
ATTACH;FMTTYPE=image/jpeg:https://www.villemsh.ca/wp-content/uploads/2025/09/Les-journees-de-la-culture.jpg
END:VEVENT
END:VCALENDAR